BEGIN:VCALENDAR
VERSION:2.0
PRODID:-//Ashtamgam Ayurveda Chikitsalayam &amp; Vidyapeedham - ECPv6.15.20//NONSGML v1.0//EN
CALSCALE:GREGORIAN
METHOD:PUBLISH
X-WR-CALNAME:Ashtamgam Ayurveda Chikitsalayam &amp; Vidyapeedham
X-ORIGINAL-URL:https://ashtamgamvidya.edu.in
X-WR-CALDESC:Events for Ashtamgam Ayurveda Chikitsalayam &amp; Vidyapeedham
REFRESH-INTERVAL;VALUE=DURATION:PT1H
X-Robots-Tag:noindex
X-PUBLISHED-TTL:PT1H
BEGIN:VTIMEZONE
TZID:Asia/Kolkata
BEGIN:STANDARD
TZOFFSETFROM:+0530
TZOFFSETTO:+0530
TZNAME:IST
DTSTART:20250101T000000
END:STANDARD
END:VTIMEZONE
BEGIN:VEVENT
DTSTART;VALUE=DATE:20260101
DTEND;VALUE=DATE:20260102
DTSTAMP:20260425T175438
CREATED:20260122T035725Z
LAST-MODIFIED:20260122T073605Z
UID:5831-1767225600-1767311999@ashtamgamvidya.edu.in
SUMMARY:Raw Drug Collection
DESCRIPTION:Raw Drug Collection – By Rasasastram Department \n“Ayurvedic pharmaceutics includes both herbal and mineral/metal dravyas. Naturally occurring minerals collected through geological surveys are thoroughly tested for purity\, safety\, and efficacy\, and are processed through specialized purification and preparation procedures to make them safe for therapeutic use.”
URL:https://ashtamgamvidya.edu.in/event/raw-drug-collection/
LOCATION:Kerala
CATEGORIES:College Events
ATTACH;FMTTYPE=image/png:https://ashtamgamvidya.edu.in/wp-content/uploads/2026/01/74453.png
END:VEVENT
END:VCALENDAR